BEGIN:VCALENDAR
VERSION:2.0
PRODID:-//Franklin County - ECPv6.15.20//NONSGML v1.0//EN
CALSCALE:GREGORIAN
METHOD:PUBLISH
X-ORIGINAL-URL:https://franklincountyne.gov
X-WR-CALDESC:Events for Franklin County
REFRESH-INTERVAL;VALUE=DURATION:PT1H
X-Robots-Tag:noindex
X-PUBLISHED-TTL:PT1H
BEGIN:VTIMEZONE
TZID:America/Chicago
BEGIN:DAYLIGHT
TZOFFSETFROM:-0600
TZOFFSETTO:-0500
TZNAME:CDT
DTSTART:20250309T080000
END:DAYLIGHT
BEGIN:STANDARD
TZOFFSETFROM:-0500
TZOFFSETTO:-0600
TZNAME:CST
DTSTART:20251102T070000
END:STANDARD
BEGIN:DAYLIGHT
TZOFFSETFROM:-0600
TZOFFSETTO:-0500
TZNAME:CDT
DTSTART:20260308T080000
END:DAYLIGHT
BEGIN:STANDARD
TZOFFSETFROM:-0500
TZOFFSETTO:-0600
TZNAME:CST
DTSTART:20261101T070000
END:STANDARD
BEGIN:DAYLIGHT
TZOFFSETFROM:-0600
TZOFFSETTO:-0500
TZNAME:CDT
DTSTART:20270314T080000
END:DAYLIGHT
BEGIN:STANDARD
TZOFFSETFROM:-0500
TZOFFSETTO:-0600
TZNAME:CST
DTSTART:20271107T070000
END:STANDARD
END:VTIMEZONE
BEGIN:VEVENT
DTSTART;TZID=America/Chicago:20260427T083000
DTEND;TZID=America/Chicago:20260427T163000
DTSTAMP:20260425T092412
CREATED:20260422T174147Z
LAST-MODIFIED:20260422T174413Z
UID:10000600-1777278600-1777307400@franklincountyne.gov
SUMMARY:Veteran Office Open
DESCRIPTION:
URL:https://franklincountyne.gov/event/veteran-office-open/
END:VEVENT
BEGIN:VEVENT
DTSTART;TZID=America/Chicago:20260429T083000
DTEND;TZID=America/Chicago:20260429T163000
DTSTAMP:20260425T092412
CREATED:20260422T174445Z
LAST-MODIFIED:20260422T174445Z
UID:10000601-1777451400-1777480200@franklincountyne.gov
SUMMARY:Veteran's Office CLOSED
DESCRIPTION:
URL:https://franklincountyne.gov/event/veterans-office-closed/
END:VEVENT
BEGIN:VEVENT
DTSTART;TZID=America/Chicago:20260430T080000
DTEND;TZID=America/Chicago:20260430T170000
DTSTAMP:20260425T092412
CREATED:20250904T071942Z
LAST-MODIFIED:20250904T071942Z
UID:10000581-1777536000-1777568400@franklincountyne.gov
SUMMARY:First Half Taxes Due
DESCRIPTION:The first half of real estate\, personal property\, and occupation taxes are due today. In order to avoid interest\, first half must be paid today. Any items mailed must be postmarked April 30th to avoid interest. Interest will begin on May 1st.
URL:https://franklincountyne.gov/event/first-half-taxes-due/
END:VEVENT
END:VCALENDAR